Workbook

Sheet 1.Bank Balance
A1: 1) | B1: Unity Trust Savings | E1: 2) | F1: Unity Trust current
B4: B/F 01/04/25 | D4: 20199.63 | F4: B/F 01/04/25 | H4: 21950.06
B5: + Receipts | D5: ='2.Receipts'!H28 -> 0 | F5: + Receipts | H5: ='2.Receipts'!D28+'2.Receipts'!R28 -> 47012.15
B6: + Interest | D6: ='2.Receipts'!F34 -> 451.95 | H6: =SUM(H4,H5) -> 68962.21
B7: - Payments | F7: -Payments | H7: ='3.Payments'!D103+D5 -> 37785.6
B8: Balance | D8: =D4+D5+D6-D7 -> 20651.58 | F8: Balance | H8: =SUM(H6-H7) -> 31176.61
F12: Total: | H12: =(H8+D8) -> 51828.19

Sheet 2.Receipts
A1: Date | C1: Item | D1: Unity | E1: Ref | F1: Barclays | G1: Barclays Premium | H1: Unity Savings | I1: Precept | J1: VAT refund PC | K1: VAT refund RG | L1: Bank interest | M1: CIL | N1: SCC grant | O1: SCDC grant | P1: Misc. | Q1: Collections | R1: Transfer Receipts to Unity
A2: 45790 | C2: Precept (6 months) | D2: 13424.5 | E2: 1 | I2: =D2 -> 13424.5
A3: 45790 | C3: CIL | D3: 51.71 | E3: 2 | M3: =D3 -> 51.71
A4: 45790 | C4: RG VAT refund | D4: 2485.56 | E4: 3 | K4: =D4 -> 2485.56
A5: 45854 | C5: CIL grant for VH roof | D5: 10800 | E5: 4 | O5: =D5 -> 10800
A6: 45855 | C6: Bank interest | E6: 5 | L6: 118.15
A7: 45937 | C7: Precept (6 months) | D7: 13424.5 | E7: 6 | I7: =D7 -> 13424.5
A8: 45937 | C8: RG & PC VAT reclaim | D8: 676 | E8: 7 | J8: 170.36 | K8: =D8-J8 -> 505.64
A9: 45937 | C9: Bank interest | E9: 8 | L9: 115.23
A10: 45954 | C10: CIL payment | D10: 3524.88 | E10: 9 | M10: =D10 -> 3524.88
A11: 46029 | C11: Xmas Tree lighting | D11: 125 | E11: 10 | Q11: =D11 -> 125
A12: 46031 | C12: Bank interest | E12: 11 | L12: 112.61
A13: 46050 | C13: ESC EC grant (SID) | D13: 2500 | E13: 12 | O13: =D13 -> 2500
A14: 46112 | C14: Bank interest | E14: 13 | L14: 105.96
B19: *
B20: *
B22: *
B23: *
B24: *
B25: *
B26: *
B27: *
C28: Total | D28: =SUM(D2:D27) -> 47012.15 | F28: =SUM(F2:F27) -> 0 | G28: =SUM(G2:G27) -> 0 | H28: =SUM(H2:H27) -> 0 | I28: =SUM(I2:I27) -> 26849 | J28: =SUM(J2:J27) -> 170.36 | K28: =SUM(K2:K27) -> 2991.2 | L28: =SUM(L2:L27) -> 451.95 | M28: =SUM(M2:M27) -> 3576.59 | ... R28: =SUM(R2:R27) -> 0
C30: BACS Receipts | F30: =(D28) -> 47012.15
C31: Barclays Receipts
C32: Barclays Interest
C33: Unity savings receipts | F33: =H28 -> 0
C34: Unity interest | F34: =L28 -> 451.95
C36: Total Income | F36: =SUM(F30:F32) -> 47012.15 | I36: =D5+D10 -> 14324.88
C37: Gross Receipts (inc transfers) | F37: =F36+R28 -> 47012.15

Sheet 3.Payments
A1: Date | B1: Payee | D1: Unity (BACS unless in italics) | E1: Barclays (cheque) | F1: Ref | G1: Chq No. | H1: Salaries/PAYE | I1: Subscriptions | J1: Electricity | K1: Insurances | L1: Miscellaneus (audit broadband etc | M1: Clerk Councillor expenses | N1: Training | O1: Grants 137 Comm projects | P1: Publicity | Q1: Environmental Services | R1: Reserves | S1: Community Projects | T1: Bank charges | U1: Recreation ground | V1: Election costs | W1: VAT paid | X1: Transfers to Unity
A2: 45754 | B2: G Walker (salary) | D2: 479.59 | F2: 1 | H2: =D2 -> 479.59
A3: 45754 | B3: British Legion (VE day) | D3: 158.49 | F3: 2 | S3: =D3 -> 158.49 | W3: 26.41
A4: 45754 | B4: SALC (subcription) | D4: 541.17 | F4: 3 | I4: =D4 -> 541.17
A5: 45754 | B5: Suffolk.cloud (email a/c) | D5: 35 | F5: 4 | L5: =D5 -> 35
A6: 45754 | B6: Suffolk.cloud (Website) | D6: 120 | F6: 5 | L6: =D6 -> 120
A7: 45754 | B7: G Walker (WFH expenses) | D7: 35.9 | F7: DD | L7: =D7 -> 35.9
A8: 45790 | B8: G Walker (salary) | D8: 479.59 | F8: 6 | H8: =D8 -> 479.59
A9: 45790 | B9: G Walker (WFH expenses) | D9: 35.9 | F9: DD | L9: =D9 -> 35.9
A10: 45790 | B10: G Walker (printer ink) | D10: 19.99 | F10: 7 | M10: =D10 -> 19.99 | W10: 3.33
A11: 45790 | B11: P Lickert (expenses APM) | D11: 72.34 | F11: 8 | M11: =D11 -> 72.34 | W11: 9.73
A12: 45790 | B12: Heelis & Lodge (audit) | D12: 220 | F12: 9 | L12: =D12 -> 220
A13: 45790 | B13: RG grant | D13: 2946 | F13: 10 | U13: =D13 -> 2946
A14: 45790 | B14: RG VAT refund | D14: 2485.56 | F14: 11 | U14: =D14 -> 2485.56
A15: 45790 | B15: Service Charge (Apr) | D15: 6 | F15: DD | T15: =D15 -> 6
A16: 45811 | B16: G Walker (salary) | D16: 479.59 | F16: 12 | H16: =D16 -> 479.59
A17: 45811 | B17: G Walker (WFH expenses) | D17: 35.9 | F17: 13 | L17: =D17 -> 35.9
A18: 45811 | B18: G Walker (audit mileage) | D18: 28.8 | F18: 14 | M18: =D18 -> 28.8
A19: 45811 | B19: D Jacobs (expenses) | D19: 34.18 | F19: 15 | M19: =D19 -> 34.18 | W19: 4.67
A20: 45811 | B20: HMRC | D20: 441.48 | F20: 16 | H20: =D20 -> 441.48
A21: 45811 | B21: Service Charge (May) | D21: 6 | F21: DD | T21: =D21 -> 6
A22: 45825 | B22: D Cope (Alley Rd) | D22: 235 | F22: 17 | Q22: =D22 -> 235
A23: 45854 | B23: G Walker (salary) | D23: 479.59 | F23: 18 | H23: =D23 -> 479.59
A24: 45854 | B24: CIL grant for VH roof | D24: 10800 | F24: 19 | S24: =D24 -> 10800
A25: 45855 | B25: Service Charge (Jun) | D25: 6 | F25: DD | T25: =D25 -> 6
A26: 45855 | B26: G Walker (WFH expenses) | D26: 35.9 | F26: DD | L26: =D26 -> 35.9
A27: 45883 | B27: Service Charge (Jul) | D27: 6 | F27: DD | T27: =D27 -> 6
A28: 45883 | B28: ICO | D28: 47 | F28: DD | L28: =D28 -> 47
A29: 45883 | B29: G Walker (salary) | D29: 479.59 | F29: 20 | H29: =D29 -> 479.59
A30: 45883 | B30: G Walker (printer paper) | D30: 21.49 | F30: 21 | M30: =D30 -> 21.49 | W30: =3.58 -> 3.58
A31: 45883 | B31: G Walker (WFH expenses) | D31: 35.9 | F31: DD | L31: =D31 -> 35.9
A32: 45904 | B32: G Walker (salary) | D32: 479.59 | F32: 22 | H32: =D32 -> 479.59
A33: 45904 | B33: HMRC | D33: 441.48 | F33: 23 | H33: =D33 -> 441.48
A34: 45904 | B34: PKF Littejohn (ext audit) | D34: 252 | F34: 24 | L34: =D34 -> 252 | W34: 42
A35: 45904 | B35: G Walker (WFH expenses) | D35: 35.9 | F35: DD | L35: =D35 -> 35.9
A36: 45904 | B36: Service Charge (Aug) | D36: 6 | F36: DD | T36: =D36 -> 6
A37: 45925 | B37: Clear insurance | D37: 1504.62 | F37: 25 | K37: =D37 -> 1504.62
A38: 45937 | B38: G Walker (WFH expenses) | D38: 35.9 | F38: DD | L38: =D38 -> 35.9
A39: 45937 | B39: G Walker (salary) | D39: 479.59 | F39: 26 | H39: =D39 -> 479.59
A40: 45937 | B40: Kirton Church PCC (mag) | D40: 900 | F40: 27 | S40: =D40 -> 900
...

Sheet 4.Bank Reconciliation
B1: Bank Reconciliation | C1: Date: | D1: 46112
B3: Cash in hand | C3: 45748 | D3: ='1.Bank Balance'!D4+'1.Bank Balance'!H4 -> 42149.69
B4: + Receipts | D4: ='2.Receipts'!F36 -> 47012.15
D5: =SUM(D3,D4) -> 89161.84
B6: + Interest (Unity) | D6: ='2.Receipts'!F34 -> 451.95
B7: -Payments | D7: ='3.Payments'!E108 -> 37785.6
A9: A | B9: Spreadsheet Balance | D9: =SUM(D5+D6-D7) -> 51828.19
B10: Cash in hand per Bank Statements
B12: Unity Trust | C12: 46112 | D12: 31176.61
B13: Unity Trust Savings | C13: 46112 | D13: 20651.58
D14: =SUM(D12:D13) -> 51828.19
B16: - Uncleared Payments | D16: ='3.Payments'!D79+'3.Payments'!D81+'3.Payments'!D83 -> 0
D17: =D14-D16 -> 51828.19
B19: +Uncleared Receipts
A21: B | B21: Adjusted bank balance | D21: =D17+D19 -> 51828.19
B23: Does A=B ? | D23: =IF(D9=D21,"YES", "NO") -> YES
B25: =IF(D23="YES","Checks out OK") -> Checks out OK

Sheet 5.Budget monitor
A1: Kirton and Falkenham Budget 2025/6 | B1: April | C1: May | D1: Jun | E1: July | F1: Aug | G1: Sept | H1: Oct | I1: Nov | J1: Dec | K1: Jan | L1: Feb | M1: March | N1: To date | O1: Forecast Outurn | P1: Budget 25/6
A2: Currency £ | P2: Final | Q2: Gap
A3: Total receipts | B3: ='2.Receipts'!D2+'2.Receipts'!D3+'2.Receipts'!D4 -> 15961.77 | E3: 10800 | H3: ='2.Receipts'!D7+'2.Receipts'!D8 -> 14100.5 | I3: ='2.Receipts'!D10 -> 3524.88 | K3: ='2.Receipts'!D11 -> 125 | L3: ='2.Receipts'!D13 -> 2500 | N3: =SUM(B3:M3) -> 47012.15 | O3: =SUM(B3:M3) -> 47012.15
A4: Opening current a/c for the financial year | B4: ='1.Bank Balance'!D4+'1.Bank Balance'!H4 -> 42149.69
A6: Salaries/PAYE | B6: ='3.Payments'!D2 -> 479.59 | C6: ='3.Payments'!D8 -> 479.59 | D6: ='3.Payments'!D16+'3.Payments'!D20 -> 921.07 | E6: ='3.Payments'!D23 -> 479.59 | F6: ='3.Payments'!D29 -> 479.59 | G6: ='3.Payments'!H32+'3.Payments'!H33 -> 921.07 | H6: ='3.Payments'!D39 -> 479.59 | I6: ='3.Payments'!D46 -> 603.89 | J6: ='3.Payments'!D64+'3.Payments'!D65 -> 997.68 | K6: ='3.Payments'!D71 -> 495.2 | L6: ='3.Payments'!D75 -> 495.2 | N6: =SUM(B6:M6) -> 6832.06 | O6: =SUM(B6:M6) -> 6832.06 | P6: ='6.25-26 budget (approved)'!W8 -> 7723 | Q6: =P6-O6 -> 890.94
A7: Subscriptions | B7: ='3.Payments'!D4 -> 541.17 | N7: =SUM(B7:M7) -> 541.17 | O7: =SUM(B7:M7) -> 541.17 | P7: ='6.25-26 budget (approved)'!W14 -> 661 | Q7: =P7-O7 -> 119.83
A8: Electricity | N8: =SUM(B8:M8) -> 0 | O8: =SUM(B8:M8) -> 0 | P8: ='6.25-26 budget (approved)'!W11 -> 0 | Q8: =P8-O8 -> 0
A9: Insurances | H9: ='3.Payments'!D37 -> 1504.62 | N9: =SUM(B9:M9) -> 1504.62 | O9: =SUM(B9:M9) -> 1504.62 | P9: ='6.25-26 budget (approved)'!W13 -> 1514 | Q9: =P9-O9 -> 9.38
A10: Miscellaneus (audit broadband etc | B10: ='3.Payments'!D6+'3.Payments'!D5+'3.Payments'!D5 -> 190 | C10: ='3.Payments'!D9+'3.Payments'!D12+'3.Payments'!D15 -> 261.9 | D10: ='3.Payments'!D17+'3.Payments'!D21 -> 41.9 | E10: ='3.Payments'!D26+'3.Payments'!D27 -> 41.9 | F10: ='3.Payments'!D28+'3.Payments'!D31+'3.Payments'!D27 -> 88.9 | G10: ='3.Payments'!D34+'3.Payments'!D35+'3.Payments'!D36 -> 293.9 | H10: ='3.Payments'!D38+'3.Payments'!D44 -> 41.9 | I10: ='3.Payments'!D45+'3.Payments'!D59 -> 41.9 | J10: ='3.Payments'!D67+'3.Payments'!D68 -> 41.9 | K10: ='3.Payments'!D74+'3.Payments'!D68 -> 41.9 | L10: ='3.Payments'!D76+'3.Payments'!D78 -> 41.9 | M10: ='3.Payments'!D80+'3.Payments'!D82 -> 41.9 | N10: =SUM(B10:M10) -> 1169.9 | O10: =SUM(B10:M10) -> 1169.9 | P10: ='6.25-26 budget (approved)'!W15+'6.25-26 budget (approved)'!W9+'6.25-26 budget (approved)'!W18+'6.25-26 budget (approved)'!W19 -> 1281 | Q10: =P10-O10 -> 111.1
A11: Clerk Councillor expenses | C11: ='3.Payments'!D10+'3.Payments'!D11 -> 92.33 | D11: ='3.Payments'!D18+'3.Payments'!D19 -> 62.98 | F11: ='3.Payments'!D30 -> 21.49 | J11: ='3.Payments'!D66 -> 66.37 | N11: =SUM(B11:M11) -> 243.17 | O11: =SUM(B11:M11) -> 243.17 | P11: ='6.25-26 budget (approved)'!W16+'6.25-26 budget (approved)'!W10 -> 397 | Q11: =P11-O11 -> 153.83
A12: Training | N12: =SUM(B12:M12) -> 0 | O12: =SUM(B12:M12) -> 0 | P12: ='6.25-26 budget (approved)'!W17 -> 246 | Q12: =P12-O12 -> 246
A13: Grants 137 Comm projects | H13: ='3.Payments'!D41 -> 50 | I13: =SUM('3.Payments'!D48:D57) -> 1750 | K13: ='3.Payments'!D70 -> 125 | N13: =SUM(B13:M13) -> 1925 | O13: =SUM(B13:M13) -> 1925 | P13: ='6.25-26 budget (approved)'!W31 -> 1600 | Q13: =P13-O13 -> -325
A14: Publicity | N14: =SUM(B14:M14) -> 0 | O14: =SUM(B14:M14) -> 0 | P14: ='6.25-26 budget (approved)'!W12 -> 0 | Q14: =P14-O14 -> 0
A15: Environmental Services | D15: ='3.Payments'!D22 -> 235 | I15: ='3.Payments'!D47 -> 40 | J15: ='3.Payments'!D60 -> 576 | K15: ='3.Payments'!D73+'3.Payments'!D69 -> 325 | L15: ='3.Payments'!D77 -> 60 | N15: =SUM(B15:M15) -> 1236 | O15: =SUM(B15:M15) -> 1236 | P15: ='6.25-26 budget (approved)'!W22+'6.25-26 budget (approved)'!W25 -> 4126 | Q15: =P15-O15 -> 2890
A16: Professional services reserve | N16: =SUM(B16:M16) -> 0 | O16: =SUM(B16:M16) -> 0 | P16: ='6.25-26 budget (approved)'!W20+'6.25-26 budget (approved)'!W21 -> 2400 | Q16: =P16-O16 -> 2400
A17: Community Projects | E17: =E3 -> 10800 | H17: ='3.Payments'!D40 -> 900 | I17: ='3.Payments'!D58 -> 3584.09 | N17: =SUM(B17:M17) -> 15284.09 | O17: =SUM(B17:M17) -> 15284.09 | P17: ='6.25-26 budget (approved)'!W32 -> 1265 | Q17: =P17-O17 -> -14019.09
A19: General account | B19: =SUM(B6:B17) -> 1210.76 | C19: =SUM(C6:C17) -> 833.82 | D19: =SUM(D6:D17) -> 1260.95 | E19: =SUM(E6:E17) -> 11321.49 | F19: =SUM(F6:F17) -> 589.98 | G19: =SUM(G6:G17) -> 1214.97 | H19: =SUM(H6:H17) -> 2976.11 | I19: =SUM(I6:I17) -> 6019.88 | ... M19: =SUM(M6:M17) -> 41.9 | N19: =SUM(B19:M19) -> 28736.01 | O19: =SUM(O6:O17) -> 28736.01
A21: RG Grant/Vat Refunds | C21: ='3.Payments'!D13+'3.Payments'!D14 -> 5431.56 | H21: ='3.Payments'!D42+'3.Payments'!D43 -> 3451.64 | N21: =SUM(B21:H21) -> 8883.2 | O21: =SUM(B21:M21) -> 8883.2 | P21: ='6.25-26 budget (approved)'!W33 -> 5892 | Q21: =P21-O21 -> -2991.2
A23: Total Expenditure | N23: =SUM(N19:N22) -> 37619.21 | O23: =SUM(O19:O22) -> 37619.21 | P23: =SUM(P6:P21) -> 27105 | Q23: =P23-O23 -> -10514.21
K24: Transfer f/t reserves
A25: Current Account ^ | B25: ='1.Bank Balance'!H4 -> 21950.06 | C25: * | O25: Exc CIL grants | Q25: =Q23+E17+I17 -> 3869.88
A26: Forecast Current Account | B26: =B25+O3-O23 -> 31343 | F26: Numbers in BLACK = actual | O26: Exc RG VAT & CIL grant | Q26: =Q25+'2.Receipts'!K8+'2.Receipts'!K4 -> 6861.08
A27: Reserve Deposit (Unity) | B27: ='1.Bank Balance'!D8 -> 20651.58 | C27: ** | F27: Numbers in RED = forecast based on last year's actual or this year's budget/part actual | O27: Prof serv reserve | Q27: =Q16 -> 2400
A28: Forecast Total | B28: =SUM(B26:B27) -> 51994.58 | H28: in the current month | O28: Maintenance reserve | Q28: ='6.25-26 budget (approved)'!W25 -> 1275
O29: Forecast underspend | Q29: =Q26-Q27-Q28 -> 3186.08
A30: * Per Bank Reconciliation Report April 2025
A31: ^ Less payments plus receipts not banked
A32: ** Per Bank reconciliation report Apr 25
A33: 46082 | B33: GJW v1

Sheet 6.25-26 budget (approved)
B1: KIRTON AND FALKENHAM PARISH COUNCIL BUDGET 2025-2026 | X1: 45611
R2: Inflation assumption | X2: 0.025 | Z2: FORECASTS | AC2: RESERVES
AA3: 2% costs inflation pa (approx) | AC3: (uncommitted)
B4: EXPENDITURE | F4: 2017 TO | G4: 2018 | H4: 2018 TO | I4: TO | J4: 2019 | K4: 2019/20 | L4: 2020 | M4: 2020/21 | N4: f/c to y/e | O4: 2021/22 | P4: f/c to y/e | Q4: 2022/23 | R4: f/c to y/e | S4: 2023/24 | T4: f/c to y/e | U4: 2024/25 | V4: f/c to y/e | W4: 2025/26 | X4: Notes | Z4: 2020-21 | AC4: 45748 | AE4: ='4.Bank Reconciliation'!D3 -> 42149.69 | AF4: Actual
F5: Budget £ | G5: Actual £ | H5: Budget £ | I5: Actual £ | J5: Forecast | K5: Budget £ | L5: Forecast | M5: Budget | O5: Budget | AC5: ADD
I6: to Nov 19 | J6: to y/e | L6: to y/e | AC6: VAT Refund | AE6: 2000 | AF6: Estimate inc RG
B7: ADMINISTRATION
C8: Salaries inc PAYE | F8: 5882 | G8: 5892 | H8: 6997 | I8: 3806 | J8: 6009 | K8: 7031 | L8: 4899 | M8: 7216 | O8: 7315 | P8: 6483 | Q8: 7608 | R8: ='5.Budget monitor'!O6 -> 6832.06 | S8: 8676 | T8: =S8 -> 8676 | U8: 9109.8 | V8: 8041 | W8: =7373+350 -> 7723 | X8: Following review Oct 24 | Z8: 7171
C9: Stationery/post/telecoms | F9: 770 | G9: 397 | H9: 535 | I9: 298 | J9: 450 | K9: 500 | X9: Inc in Expenses | Z9: 510 | AE9: =SUM(AE4:AE8) -> 44149.69
C10: Mileage | F10: 125 | G10: 76 | H10: 128 | I10: 15 | J10: 75 | K10: 75 | X10: Inc in Expenses | Z10: 75 | AC10: LESS
C11: VG Electricity | F11: 30 | G11: 33 | H11: 34 | I11: 34 | J11: 34 | K11: 35 | L11: 35 | M11: 36 | O11: 37 | P11: 40 | Q11: 42 | R11: 0 | S11: 46 | T11: 0 | U11: 46 | V11: 0 | W11: 0 | Z11: 36 | AC11: Grants | AE11: 3300
C12: Publicity | F12: 202 | G12: 175 | H12: 206 | I12: 20 | J12: 20 | K12: 250 | L12: 0 | M12: 0 | O12: 9 | P12: 0 | Q12: 0 | R12: 0 | S12: 0 | T12: 0 | U12: 0 | V12: 0 | W12: 0 | Z12: 250 | AC12: Election
C13: Insurance | F13: 1822 | G13: 1238 | H13: 1600 | I13: 1368 | J13: 1368 | K13: 1100 | L13: 1046 | M13: 1067 | O13: =1200 -> 1200 | P13: 1164 | Q13: 1211 | R13: ='5.Budget monitor'!O9 -> 1504.62 | S13: 1351 | T13: ='5.Budget monitor'!$O$9 -> 1504.62 | U13: 1350 | V13: ='5.Budget monitor'!O9 -> 1504.62 | W13: 1514 | Z13: 1125 | AC13: Specialist Fees | AE13: 15750 | AF13: £1.75K added 24/25
C14: Membership SALC,CAS,SPS | F14: 607 | G14: 524 | H14: 565 | I14: 558 | J14: 558 | K14: 575 | L14: 564 | M14: 575 | O14: 655 | P14: 558 | Q14: 580 | R14: ='5.Budget monitor'!O7 -> 541.17 | S14: 614 | T14: ='5.Budget monitor'!$O$7 -> 541.17 | U14: 644.7 | V14: =U14 -> 644.7 | W14: 661 | Z14: 585 | AC14: Maintenance | AE14: 2500 | AF14: £1k added 24/25
C15: Audit | F15: 190 | G15: 100 | H15: 130 | I15: 200 | J15: 328 | K15: 131 | L15: 250 | M15: 750 | O15: 184 | P15: 435 | Q15: 191 | R15: ='3.Payments'!D21 -> 6 | S15: 400 | T15: ='3.Payments'!D12+'3.Payments'!D25 -> 226 | U15: 495 | V15: 525 | W15: 538 | Z15: 134 | AC15: Contingency | AE15: 0
C16: Councillor Expenses | F16: 180 | G16: 95 | H16: 180 | I16: 50 | J16: 50 | K16: 100 | L16: 442 | M16: 451 | O16: 328 | P16: 352 | Q16: 366 | R16: ='5.Budget monitor'!O11 -> 243.17 | S16: 242 | T16: ='5.Budget monitor'!$O$11 -> 243.17 | U16: 254 | V16: ='5.Budget monitor'!O11 -> 243.17 | W16: 397 | Z16: 102 | AE16: =SUM(AE9-AE11-AE12-AE13-AE14-AE15) -> 22599.69
C17: Training | F17: 202 | G17: 38 | H17: 206 | I17: 0 | J17: 100 | K17: 210 | L17: 38 | M17: 39 | O17: =N17*(1+$X$2) -> 0 | P17: 0 | Q17: 0 | R17: ='5.Budget monitor'!O12 -> 0 | S17: 67 | T17: ='5.Budget monitor'!$O$12 -> 0 | U17: 67 | V17: ='5.Budget monitor'!O12 -> 0 | W17: 246 | Z17: 215 | AC17: Recommended 3 to 12 months
C18: Miscelleaneous | G18: 54 | H18: 54 | I18: 36 | J18: 72 | K18: 72 | L18: 1941 | M18: 1980 | O18: 1885 | P18: 909 | Q18: 945 | R18: ='5.Budget monitor'!O10-'6.25-26 budget (approved)'!R15 -> 1163.9 | S18: 1040 | T18: ='5.Budget monitor'!$O$10-T15 -> 943.9 | U18: 1092 | V18: 605 | W18: 620 | X18: Following review Oct 24 | Z18: 72 | AC18: of turnover, which is between
C19: Accounting & Website fees | G19: 376 | H19: 167 | I19: 100 | J19: 100 | K19: 257 | U19: 123 | V19: 120 | W19: 123 | Z19: 262 | AC19: =S35/4 -> 6214 | AD19: & | AE19: =S35 -> 24856
C20: Election fees reserve | G20: 0 | H20: 0 | I20: 0 | J20: 0 | K20: 300 | L20: 0 | M20: 0 | O20: =N20 -> 0 | P20: 0 | Q20: 0 | R20: 0 | S20: 0 | T20: 0 | U20: 0 | V20: 0 | W20: 0 | Z20: 300 | AA20: If contested
C21: Professional Fees reserve | G21: 0 | H21: 800 | I21: 0 | J21: 800 | K21: 500 | M21: 500 | O21: 1000 | P21: 1000 | Q21: 2200 | R21: 2200 | S21: 1300 | T21: =S21 -> 1300 | U21: 1750 | V21: =U21 -> 1750 | W21: 2400 | X21: To build reserves* | Z21: 500
B22: ENVIRONMENTAL SERVICES | L22: 2174 | M22: 1500 | O22: 2373 | P22: 1034 | Q22: 2468 | R22: ='5.Budget monitor'!O15 -> 1236 | S22: 2715 | T22: ='5.Budget monitor'!$O$15 -> 1236 | U22: 2850.75 | V22: ='5.Budget monitor'!O15 -> 1236 | W22: 2851 | X22: Total
C23: Grass cutting | F23: 510 | G23: 575 | H23: 587 | I23: 412 | J23: 412 | K23: 450 | Z23: 460
C24: Hedges/trees | F24: 300 | H24: 306 | I24: 163 | J24: 163 | K24: 200 | Z24: 200
C25: Repairs/Maintenance reserve. | G25: 73 | H25: 500 | I25: 0 | J25: 500 | K25: 500 | M25: 500 | O25: 500 | P25: 500 | Q25: 500 | R25: 500 | S25: 1000 | T25: =S25 -> 1000 | U25: 1000 | V25: =U25 -> 1000 | W25: 1275 | X25: To build reserves | Z25: 500 | AC25: Note: Budget items in green are based on 23/24 budget & are increased by inflation assumption
AC26: Items in italic are not increased by inflation assumption
B27: GRANT EXPENDITURE | AC27: Otherwise items are based on f/c to y/e & are increased by inflation assumption
C28: Comm Infrastructure Levy | J28: 1210 | K28: 0 | Z28: 0
C29: Loc Grant / Comm En Fund | I29: 904 | J29: 3404 | K29: 0 | Z29: 0
B30: GRANTS OUT(s137)
C31: General Pool | F31: 1822 | G31: 1820 | H31: 1600 | I31: 231 | J31: 1600 | K31: 1600 | L31: 2487 | M31: 1600 | O31: 1600 | P31: 1900 | Q31: =P31 -> 1900 | R31: ='5.Budget monitor'!O13 -> 1925 | S31: 1600 | T31: ='5.Budget monitor'!$O$13 -> 1925 | U31: 1600 | V31: ='5.Budget monitor'!P13 -> 1600 | W31: 1600 | Z31: 1650
C32: Community Projects | J32: 0 | K32: 0 | M32: 300 | O32: 300 | Q32: =O32 -> 300 | R32: ='5.Budget monitor'!O17 -> 15284.09 | S32: 330 | T32: ='5.Budget monitor'!$O$17 -> 15284.09 | U32: 330 | V32: ='5.Budget monitor'!O17+'5.Budget monitor'!O13-'6.25-26 budget (approved)'!V31 -> 15609.09 | W32: 1265 | Z32: 0
C33: Recreation Ground | F33: 4554 | G33: 4500 | H33: 4600 | I33: 4500 | J33: 4500 | K33: 4600 | L33: =4600+2315 -> 6915 | M33: 4692 | O33: 4786 | P33: 5786 | Q33: 4977 | R33: ='5.Budget monitor'!O21 -> 8883.2 | S33: 5475 | T33: ='5.Budget monitor'!$O$21 -> 8883.2 | U33: 5748.75 | V33: ='5.Budget monitor'!N21 -> 8883.2 | W33: 5892 | X33: f/c exc VAT refund | Z33: 4700 | AC33: =W33/2 -> 2946
C34: GENERAL RESERVE | F34: 0 | G34: 0 | J34: 0 | K34: 0 | Z34: 0
B35: TOTAL EXPENDITURE | F35: =SUM(F8:F34) -> 17196 | G35: =SUM(G8:G34) -> 15966 | H35: =SUM(H8:H34) -> 19195 | I35: =SUM(I8:I34) -> 12695 | J35: =SUM(J8:J34) -> 21753 | K35: =SUM(K8:K34) -> 18486 | L35: =SUM(L8:L34) -> 20791 | M35: =SUM(M8:M34) -> 21206 | ... T35: =SUM(T8:T34) -> 41763.15 | U35: 26338 | V35: =SUM(V8:V33) -> 41761.78 | W35: 27106 | Z35: =SUM(Z8:Z34) -> 18847
B37: INCOME
B38: GRANTS IN
C39: SCC Locality Grant | F39: c/f 18/19 | G39: 800 | K39: 0 | L39: 0 | M39: 0 | Z39: 0 | AC39: 2019/20 | AE39: Precept | AF39: 20137 | AG39: =(M48-AF39)/AF39 -> 0.053086358
C40: SCDC Enabling Grants/Other | F40: c/f 18/19 | G40: 2500 | K40: 0 | L40: 0 | M40: 0 | Z40: 0 | AC40: 2020/21 | AF40: 21205 | AG40: =1-(AF39/AF40) -> 0.05036548
C41: Other grants/collection | G41: 165 | H41: 0 | I41: 156 | J41: 156 | K41: 160 | L41: 0 | M41: 0 | O41: 0 | Q41: 0 | S41: 0 | U41: 0 | W41: 0 | Z41: 160 | AC41: 2021/22 | AF41: =O48 -> 22146 | AG41: =1-(AF40/AF41) -> 0.042490743
...

Sheet 7.26-27 budget (Approved)
B1: KIRTON AND FALKENHAM PARISH COUNCIL BUDGET 2026-2027 | Z1: 46085
R2: Inflation assumption | Z2: 0.035 | AB2: FORECASTS | AE2: RESERVES
AC3: 2% costs inflation pa (approx) | AE3: (uncommitted)
B4: EXPENDITURE | F4: 2017 TO | G4: 2018 | H4: 2018 TO | I4: TO | J4: 2019 | K4: 2019/20 | L4: 2020 | M4: 2020/21 | N4: f/c to y/e | O4: 2021/22 | P4: f/c to y/e | Q4: 2022/23 | R4: f/c to y/e | S4: 2023/24 | T4: f/c to y/e | U4: 2024/25 | V4: f/c to y/e | W4: 2025/26 | X4: f/c to y/e | Y4: 2026/27 | Z4: Notes | AB4: 2020-21 | AE4: 46113 | AG4: ='5.Budget monitor'!B28 -> 51994.58 | AH4: Forecast
F5: Budget £ | G5: Actual £ | H5: Budget £ | I5: Actual £ | J5: Forecast | K5: Budget £ | L5: Forecast | M5: Budget | O5: Budget | AE5: ADD
I6: to Nov 19 | J6: to y/e | L6: to y/e | AE6: VAT Refund | AG6: 2000 | AH6: Estimate inc RG
B7: ADMINISTRATION
C8: Salaries inc PAYE | F8: 5882 | G8: 5892 | H8: 6997 | I8: 3806 | J8: 6009 | K8: 7031 | L8: 4899 | M8: 7216 | O8: 7315 | P8: 6483 | Q8: 7608 | R8: ='5.Budget monitor'!O6 -> 6832.06 | S8: 8676 | T8: =S8 -> 8676 | U8: 9109.8 | V8: 8041 | W8: 7723 | X8: ='5.Budget monitor'!O6 -> 6832.06 | Y8: 8359 | Z8: Following review Oct 24 | AB8: 7171
C9: Stationery/post/telecoms | F9: 770 | G9: 397 | H9: 535 | I9: 298 | J9: 450 | K9: 500 | Z9: Inc in Expenses | AB9: 510 | AG9: =SUM(AG4:AG8) -> 53994.58
C10: Mileage | F10: 125 | G10: 76 | H10: 128 | I10: 15 | J10: 75 | K10: 75 | Z10: Inc in Expenses | AB10: 75 | AE10: LESS
C11: VG Electricity | F11: 30 | G11: 33 | H11: 34 | I11: 34 | J11: 34 | K11: 35 | L11: 35 | M11: 36 | O11: 37 | P11: 40 | Q11: 42 | R11: 0 | S11: 46 | T11: 0 | U11: 46 | V11: 0 | W11: 0 | X11: 0 | Y11: 0 | AB11: 36 | AE11: Grants | AG11: 3300
C12: Publicity | F12: 202 | G12: 175 | H12: 206 | I12: 20 | J12: 20 | K12: 250 | L12: 0 | M12: 0 | O12: 9 | P12: 0 | Q12: 0 | R12: 0 | S12: 0 | T12: 0 | U12: 0 | V12: 0 | W12: 0 | X12: 0 | Y12: 0 | AB12: 250 | AE12: SID (received grant) | AG12: 2500 | AH12: Added March 26
C13: Insurance | F13: 1822 | G13: 1238 | H13: 1600 | I13: 1368 | J13: 1368 | K13: 1100 | L13: 1046 | M13: 1067 | O13: =1200 -> 1200 | P13: 1164 | Q13: 1211 | R13: ='5.Budget monitor'!O9 -> 1504.62 | S13: 1351 | T13: ='5.Budget monitor'!$O$9 -> 1504.62 | U13: 1350 | V13: ='5.Budget monitor'!O9 -> 1504.62 | W13: 1514.4272 | X13: ='5.Budget monitor'!O9 -> 1504.62 | Y13: 1567 | AB13: 1125 | AE13: Specialist Fees | AG13: 18150 | AH13: £2.4K added 25/26
C14: Membership SALC,CAS,SPS | F14: 607 | G14: 524 | H14: 565 | I14: 558 | J14: 558 | K14: 575 | L14: 564 | M14: 575 | O14: 655 | P14: 558 | Q14: 580 | R14: ='5.Budget monitor'!O7 -> 541.17 | S14: 614 | T14: ='5.Budget monitor'!$O$7 -> 541.17 | U14: 644.7 | V14: =U14 -> 644.7 | W14: 660.8175 | X14: 541.17 | Y14: 683.5 | AB14: 585 | AE14: Maintenance | AG14: 10775 | AH14: £1.275k added 25/26
C15: Audit | F15: 190 | G15: 100 | H15: 130 | I15: 200 | J15: 328 | K15: 131 | L15: 250 | M15: 750 | O15: 184 | P15: 435 | Q15: 191 | R15: ='3.Payments'!D21 -> 6 | S15: 400 | T15: ='3.Payments'!D12+'3.Payments'!D25 -> 226 | U15: 495 | V15: ='5.Budget monitor'!D10+'5.Budget monitor'!F10 -> 130.8 | W15: 538.125 | X15: ='3.Payments'!D12+'3.Payments'!D34 -> 472 | Y15: 488.5 | AB15: 134 | AE15: Contingency | AG15: 0
C16: Councillor Expenses | F16: 180 | G16: 95 | H16: 180 | I16: 50 | J16: 50 | K16: 100 | L16: 442 | M16: 451 | O16: 328 | P16: 352 | Q16: 366 | R16: ='5.Budget monitor'!O11 -> 243.17 | S16: 242 | T16: ='5.Budget monitor'!$O$11 -> 243.17 | U16: 254 | V16: ='5.Budget monitor'!O11 -> 243.17 | W16: 397 | X16: ='5.Budget monitor'!O11 -> 243.17 | Y16: 291.5 | AB16: 102 | AG16: =SUM(AG9-AG11-AG12-AG13-AG14-AG15) -> 19269.58
C17: Training | F17: 202 | G17: 38 | H17: 206 | I17: 0 | J17: 100 | K17: 210 | L17: 38 | M17: 39 | O17: =N17*(1+$Z$2) -> 0 | P17: 0 | Q17: 0 | R17: ='5.Budget monitor'!O12 -> 0 | S17: 67 | T17: ='5.Budget monitor'!$O$12 -> 0 | U17: 67 | V17: ='5.Budget monitor'!O12 -> 0 | W17: 246 | X17: ='5.Budget monitor'!O12 -> 0 | Y17: 99.5 | Z17: Reduced to match spend | AB17: 215 | AE17: Recommended 3 to 12 months
C18: Miscelleaneous | G18: 54 | H18: 54 | I18: 36 | J18: 72 | K18: 72 | L18: 1941 | M18: 1980 | O18: 1885 | P18: 909 | Q18: 945 | R18: ='5.Budget monitor'!O10-'7.26-27 budget (Approved)'!R15 -> 1163.9 | S18: 1040 | T18: ='5.Budget monitor'!$O$10-T15 -> 943.9 | U18: 1092 | V18: 605 | W18: 620.125 | X18: ='5.Budget monitor'!O10-'7.26-27 budget (Approved)'!X15 -> 697.9 | Y18: 685 | Z18: Following review Oct 24 | AB18: 72 | AE18: of turnover, which is between
C19: Accounting & Website fees | G19: 376 | H19: 167 | I19: 100 | J19: 100 | K19: 257 | V19: ='5.Budget monitor'!B10 -> 190 | W19: 123 | X19: 167 | Y19: 173 | AB19: 262 | AE19: =Y35/4 -> 7045.25 | AF19: & | AG19: =Y35 -> 28181
C20: Election fees reserve | G20: 0 | H20: 0 | I20: 0 | J20: 0 | K20: 300 | L20: 0 | M20: 0 | O20: =N20 -> 0 | P20: 0 | Q20: 0 | R20: 0 | S20: 0 | T20: 0 | U20: 0 | V20: 0 | W20: 0 | X20: 0 | Y20: 0 | AB20: 300 | AC20: If contested
C21: Professional Fees reserve | G21: 0 | H21: 800 | I21: 0 | J21: 800 | K21: 500 | M21: 500 | O21: 1000 | P21: 1000 | Q21: 2200 | R21: 2200 | S21: 1300 | T21: =S21 -> 1300 | U21: 1750 | V21: =U21 -> 1750 | W21: 2400 | X21: =W21 -> 2400 | Y21: 2400 | Z21: To build reserves* | AB21: 500
B22: ENVIRONMENTAL SERVICES | L22: 2174 | M22: 1500 | O22: 2373 | P22: 1034 | Q22: 2468 | R22: ='5.Budget monitor'!O15 -> 1236 | S22: 2715 | T22: ='5.Budget monitor'!$O$15 -> 1236 | U22: 2850.75 | V22: ='5.Budget monitor'!O15 -> 1236 | W22: 2850.75 | X22: ='5.Budget monitor'!O15 -> 1236 | Y22: 2851 | Z22: Total
C23: Grass cutting | F23: 510 | G23: 575 | H23: 587 | I23: 412 | J23: 412 | K23: 450 | AB23: 460
C24: Hedges/trees | F24: 300 | H24: 306 | I24: 163 | J24: 163 | K24: 200 | AB24: 200
C25: Repairs/Maintenance reserve. | G25: 73 | H25: 500 | I25: 0 | J25: 500 | K25: 500 | M25: 500 | O25: 500 | P25: 500 | Q25: 500 | R25: 500 | S25: 1000 | T25: =S25 -> 1000 | U25: 1000 | V25: =U25 -> 1000 | W25: 1275 | X25: 1275 | Y25: 1275 | Z25: To build reserves | AB25: 500 | AE25: Note: Budget items in green are based on 25/6 budget & are increased by inflation assumption
AE26: Items in italic are not increased by inflation assumption
B27: GRANT EXPENDITURE | AE27: Otherwise items are based on f/c to y/e & are increased by inflation assumption
C28: Comm Infrastructure Levy | J28: 1210 | K28: 0 | AB28: 0
C29: Loc Grant / Comm En Fund | I29: 904 | J29: 3404 | K29: 0 | AB29: 0
B30: GRANTS OUT(s137)
C31: General Pool | F31: 1822 | G31: 1820 | H31: 1600 | I31: 231 | J31: 1600 | K31: 1600 | L31: 2487 | M31: 1600 | O31: 1600 | P31: 1900 | Q31: =P31 -> 1900 | R31: ='5.Budget monitor'!O13 -> 1925 | S31: 1600 | T31: ='5.Budget monitor'!$O$13 -> 1925 | U31: 1600 | V31: ='5.Budget monitor'!P13 -> 1600 | W31: 1600 | X31: ='5.Budget monitor'!O13 -> 1925 | Y31: 1900 | AB31: 1650
C32: Community Projects | J32: 0 | K32: 0 | M32: 300 | O32: 300 | Q32: =O32 -> 300 | R32: ='5.Budget monitor'!O17 -> 15284.09 | S32: 330 | T32: ='5.Budget monitor'!$O$17 -> 15284.09 | U32: 330 | V32: ='5.Budget monitor'!O17+'5.Budget monitor'!O13-'7.26-27 budget (Approved)'!V31 -> 15609.09 | W32: 1265 | X32: ='5.Budget monitor'!O17-10800 -> 4484.09 | Y32: 1309 | AB32: 0
C33: Recreation Ground | F33: 4554 | G33: 4500 | H33: 4600 | I33: 4500 | J33: 4500 | K33: 4600 | L33: =4600+2315 -> 6915 | M33: 4692 | O33: 4786 | P33: 5786 | Q33: 4977 | R33: ='5.Budget monitor'!O21 -> 8883.2 | S33: 5475 | T33: ='5.Budget monitor'!$O$21 -> 8883.2 | U33: 5748.75 | V33: ='5.Budget monitor'!N21 -> 8883.2 | W33: 5892.4687 | X33: ='5.Budget monitor'!H21*2 -> 6903.28 | Y33: 6099 | Z33: f/c exc VAT refund | AB33: 4700
C34: GENERAL RESERVE | F34: 0 | G34: 0 | J34: 0 | K34: 0 | AB34: 0
B35: TOTAL EXPENDITURE | F35: =SUM(F8:F34) -> 17196 | G35: =SUM(G8:G34) -> 15966 | H35: =SUM(H8:H34) -> 19195 | I35: =SUM(I8:I34) -> 12695 | J35: =SUM(J8:J34) -> 21753 | K35: =SUM(K8:K34) -> 18486 | L35: =SUM(L8:L34) -> 20791 | M35: =SUM(M8:M34) -> 21206 | ... T35: =SUM(T8:T34) -> 41763.15 | U35: 26338 | V35: =SUM(V8:V33) -> 41437.58 | W35: 27105.713 | X35: =SUM(X8:X33) -> 28681.29 | Y35: =SUM(Y8:Y33) -> 28181 | AB35: =SUM(AB8:AB34) -> 18847
B37: INCOME
B38: GRANTS IN
C39: SCC Locality Grant | F39: c/f 18/19 | G39: 800 | K39: 0 | L39: 0 | M39: 0 | AB39: 0 | AE39: 2019/20 | AG39: Precept | AH39: 20137 | AI39: =(M48-AH39)/AH39 -> 0.053086358
C40: SCDC Enabling Grants/Other | F40: c/f 18/19 | G40: 2500 | K40: 0 | L40: 0 | M40: 0 | AB40: 0 | AE40: 2020/21 | AH40: 21205 | AI40: =1-(AH39/AH40) -> 0.05036548
C41: Other grants/collection | G41: 165 | H41: 0 | I41: 156 | J41: 156 | K41: 160 | L41: 0 | M41: 0 | O41: 0 | Q41: 0 | S41: 0 | U41: 0 | W41: 0 | Y41: 0 | AB41: 160 | AE41: 2021/22 | AH41: =O48 -> 22146 | AI41: =1-(AH40/AH41) -> 0.042490743
...

Sheet 8.Statement of accounts
A1: Kirton and Falkenham Parish Council
A2: STATEMENT OF ACCOUNTS
E4: Receipts | I4: Payments
A5: Balance at Bank | E5: ='4.Bank Reconciliation'!D3 -> 42149.69
A6: Precept | C6: ='2.Receipts'!I28 -> 26849
A7: VAT refund PC | C7: ='2.Receipts'!J28 -> 170.36
A8: VAT refund RG | C8: ='2.Receipts'!K28 -> 2991.2
A9: Bank interest | C9: ='2.Receipts'!F34 -> 451.95
A10: CIL | C10: ='2.Receipts'!M28 -> 3576.59
A11: SCC Grant | C11: ='2.Receipts'!N28 -> 0
A12: East Suffolk Council Grant | C12: ='2.Receipts'!O28 -> 13300
A13: Misc | C13: ='2.Receipts'!P28 -> 0
A14: Collections | C14: ='2.Receipts'!Q28 -> 125
A15: Salaries/PAYE | G15: ='3.Payments'!H103 -> 6832.06
A16: Subscriptions | G16: ='3.Payments'!I103 -> 541.17
A17: Electricity | G17: ='3.Payments'!J103 -> 0
A18: Insurances | G18: ='3.Payments'!K103 -> 1504.62
A19: Miscellaneus (audit broadband etc | G19: ='3.Payments'!L103 -> 1104.8
A20: Clerk Councillor expenses | G20: ='3.Payments'!M103 -> 243.17
A21: Training | G21: ='3.Payments'!N103 -> 0
A22: Grants 137 Comm projects | G22: ='3.Payments'!O103 -> 1925
A23: Publicity | G23: ='3.Payments'!P103 -> 0
A24: Environmental Services | G24: ='3.Payments'!Q103 -> 1236
A25: Reserves | G25: ='3.Payments'!R103 -> 0
A26: Community Projects | G26: ='3.Payments'!S103 -> 15442.58
A27: Bank charges | G27: ='3.Payments'!T103 -> 73
A28: Recreation ground | G28: ='3.Payments'!U103 -> 8883.2
A29: Election costs | G29: ='3.Payments'!V103 -> 0
E30: =SUM(C6:C14) -> 47464.1 | I30: =SUM(G15:G29) -> 37785.6
A32: Closing Balances:
A33: Balances in Bank Account | I33: ='4.Bank Reconciliation'!D21 -> 51828.19
A34: TOTAL | E34: =E30+E5 -> 89613.79 | I34: =I33+I30 -> 89613.79
A36: VAT Paid (inclusive in the above) | C36: ='3.Payments'!W103 -> 124.72
A39: The above statement represents fairly the financial position of the council as at 31st March 2025
A44: Signed _________________________________________________
A49: Date ___________________________________________________

Sheet 9.Summary of Rxs & Pmts
A1: Kirton and Falkenham Parish Council
A2: Summary of Receipts and Payments
E4: Receipts | I4: Payments | N4: Net Position
A5: Title | C5: Estimated | E5: Actual | G5: Variance | I5: Estimated | K5: Actual | M5: Variance | N5: % (+/-) Under/over spend
A6: Precept | C6: =E6 -> 26849 | E6: ='2.Receipts'!I28 -> 26849 | G6: =E6-C6 -> 0 | O6: =IF(C6=0,"N/A",100*G6/C6) -> 0
A7: VAT refund PC | C7: 605.73 | E7: ='2.Receipts'!J28 -> 170.36 | G7: =C7-E7 -> 435.37 | O7: =IF(C7=0,"N/A",100*G7/C7) -> 71.875258
A8: VAT refund RG | C8: 1000 | E8: ='2.Receipts'!K28 -> 2991.2 | G8: =C8-E8 -> -1991.2 | O8: =IF(C8=0,"N/A",100*G8/C8) -> -199.12
A9: Bank interest | C9: 15 | E9: ='2.Receipts'!F32 -> 0 | G9: =C9-E9 -> 15 | O9: =IF(C9=0,"N/A",100*G9/C9) -> 100
A10: CIL | E10: ='2.Receipts'!M28 -> 3576.59 | G10: =C10-E10 -> -3576.59 | O10: =IF(C10=0,"N/A",100*G10/C10) -> N/A
A11: SCC Grant | E11: ='2.Receipts'!N28 -> 0 | G11: =C11-E11 -> 0 | O11: =IF(C11=0,"N/A",100*G11/C11) -> N/A
A12: East Suffolk Council Grant | E12: ='2.Receipts'!O28 -> 13300 | G12: =C12-E12 -> -13300 | O12: =IF(C12=0,"N/A",100*G12/C12) -> N/A
A13: Misc | E13: ='2.Receipts'!P28 -> 0 | G13: =C13-E13 -> 0 | O13: =IF(C13=0,"N/A",100*G13/C13) -> N/A
A14: Collections | E14: ='2.Receipts'!Q28 -> 125 | G14: =C14-E14 -> -125 | O14: =IF(C14=0,"N/A",100*G14/C14) -> N/A
A15: Salaries/PAYE | I15: ='5.Budget monitor'!P6 -> 7723 | K15: ='3.Payments'!H103 -> 6832.06 | M15: =I15-K15 -> 890.94 | O15: =IF(I15=0,"N/A",100*M15/I15) -> 11.536191
A16: Subscriptions | I16: ='5.Budget monitor'!P7 -> 661 | K16: ='3.Payments'!I103 -> 541.17 | M16: =I16-K16 -> 119.83 | O16: =IF(I16=0,"N/A",100*M16/I16) -> 18.128593
A17: Electricity | I17: ='5.Budget monitor'!P8 -> 0 | K17: ='3.Payments'!J103 -> 0 | M17: =I17-K17 -> 0 | O17: =IF(I17=0,"N/A",100*M17/I17) -> N/A
A18: Insurances | I18: ='5.Budget monitor'!P9 -> 1514 | K18: ='3.Payments'!K103 -> 1504.62 | M18: =I18-K18 -> 9.38 | O18: =IF(I18=0,"N/A",100*M18/I18) -> 0.61955086
A19: Miscellaneus (audit broadband etc) | I19: ='5.Budget monitor'!P10 -> 1281 | K19: ='3.Payments'!L103 -> 1104.8 | M19: =I19-K19 -> 176.2 | O19: =IF(I19=0,"N/A",100*M19/I19) -> 13.754879
A20: Clerk Councillor expenses | I20: ='5.Budget monitor'!P11 -> 397 | K20: ='3.Payments'!M103 -> 243.17 | M20: =I20-K20 -> 153.83 | O20: =IF(I20=0,"N/A",100*M20/I20) -> 38.748111
A21: Training | I21: ='5.Budget monitor'!P12 -> 246 | K21: ='3.Payments'!N103 -> 0 | M21: =I21-K21 -> 246 | O21: =IF(I21=0,"N/A",100*M21/I21) -> 100
A22: Grants 137 Comm projects | I22: ='5.Budget monitor'!P13 -> 1600 | K22: ='3.Payments'!O103 -> 1925 | M22: =I22-K22 -> -325 | O22: =IF(I22=0,"N/A",100*M22/I22) -> -20.3125
A23: Publicity | I23: ='5.Budget monitor'!P14 -> 0 | K23: ='3.Payments'!P103 -> 0 | M23: =I23-K23 -> 0 | O23: =IF(I23=0,"N/A",100*M23/I23) -> N/A
A24: Environmental Services | I24: ='5.Budget monitor'!P15 -> 4126 | K24: ='3.Payments'!Q103 -> 1236 | M24: =I24-K24 -> 2890 | O24: =IF(I24=0,"N/A",100*M24/I24) -> 70.043626
A25: Reserves | I25: ='5.Budget monitor'!P16 -> 2400 | M25: =I25-K25 -> 2400 | O25: =IF(I25=0,"N/A",100*M25/I25) -> 100
A26: Community Projects | I26: ='5.Budget monitor'!P17 -> 1265 | K26: ='3.Payments'!S103 -> 15442.58 | M26: =I26-K26 -> -14177.58 | O26: =IF(I26=0,"N/A",100*M26/I26) -> -1120.7573
A27: Bank charges | I27: ='5.Budget monitor'!P18 -> 0 | K27: ='3.Payments'!T103 -> 73 | M27: =I27-K27 -> -73 | O27: =IF(I27=0,"N/A",100*M27/I27) -> N/A
A28: Rec ground (inc VAT refund) | I28: ='5.Budget monitor'!P21+C8 -> 6892 | K28: ='3.Payments'!U103 -> 8883.2 | M28: =I28-K28 -> -1991.2 | O28: =IF(I28=0,"N/A",100*M28/I28) -> -28.891468
A29: Election costs | I29: ='5.Budget monitor'!P20 -> 0 | K29: ='3.Payments'!V103 -> 0 | M29: =I29-K29 -> 0 | O29: =IF(I29=0,"N/A",100*M29/I29) -> N/A
A32: TOTAL | C32: =SUM(C6:C29) -> 28469.73 | E32: =SUM(E6:E29) -> 47012.15 | G32: =SUM(G6:G29) -> -18542.42 | I32: =SUM(I6:I29) -> 28105 | K32: =SUM(K6:K29) -> 37785.6 | M32: =SUM(M6:M29) -> -9680.6

Sheet Sheet1
